BEGIN:VCALENDAR
VERSION:2.0
PRODID:-//Nauka Niderlandzkiego - ECPv6.15.20//NONSGML v1.0//EN
CALSCALE:GREGORIAN
METHOD:PUBLISH
X-ORIGINAL-URL:https://anitanederlands.nl
X-WR-CALDESC:Wydarzenia dla Nauka Niderlandzkiego
REFRESH-INTERVAL;VALUE=DURATION:PT1H
X-Robots-Tag:noindex
X-PUBLISHED-TTL:PT1H
BEGIN:VTIMEZONE
TZID:Europe/Amsterdam
BEGIN:DAYLIGHT
TZOFFSETFROM:+0100
TZOFFSETTO:+0200
TZNAME:CEST
DTSTART:20250330T010000
END:DAYLIGHT
BEGIN:STANDARD
TZOFFSETFROM:+0200
TZOFFSETTO:+0100
TZNAME:CET
DTSTART:20251026T010000
END:STANDARD
BEGIN:DAYLIGHT
TZOFFSETFROM:+0100
TZOFFSETTO:+0200
TZNAME:CEST
DTSTART:20260329T010000
END:DAYLIGHT
BEGIN:STANDARD
TZOFFSETFROM:+0200
TZOFFSETTO:+0100
TZNAME:CET
DTSTART:20261025T010000
END:STANDARD
BEGIN:DAYLIGHT
TZOFFSETFROM:+0100
TZOFFSETTO:+0200
TZNAME:CEST
DTSTART:20270328T010000
END:DAYLIGHT
BEGIN:STANDARD
TZOFFSETFROM:+0200
TZOFFSETTO:+0100
TZNAME:CET
DTSTART:20271031T010000
END:STANDARD
END:VTIMEZONE
BEGIN:VEVENT
DTSTART;TZID=Europe/Amsterdam:20260328T140000
DTEND;TZID=Europe/Amsterdam:20260606T160000
DTSTAMP:20260421T215218
CREATED:20260119T085727Z
LAST-MODIFIED:20260324T082510Z
UID:3018-1774706400-1780761600@anitanederlands.nl
SUMMARY:Kurs A1+ Mów po niderlandzku (kurs wprowadzający do A2)- START 28 marca 2026\, KONIEC 6 czerwca 2026 ( 25.04.2026-5.05.2026-przerwa wakacyjna)
DESCRIPTION:Kurs podzielony jest tematycznie. Ćwiczysz poznane zdania i zwroty od razu w grupie i bezpośrednio z trenerem językowym. 20 godzin skutecznego komunikowania się i słuchania rozmówcy ze zrozumieniem. \nCo otrzymujesz: \n\nsegregator z programem kursu\nnagrania słownictwa i zwrotów na WhatsApp – dostęp do nagrań do 2 tygodni po ukończeniu kursu\nnotatnik+ długopis\ndodatkowo możesz polubić moją stronę na Facebook i korzystać z dodatkowych nagrań i filmów na YouTube\nmoje wsparcie na grupie WhatsApp\, gdzie zawsze możesz zadać pytanie\n\nCzego nauczysz się na kursie: \nWolny czas\, wakacje\, hobby i planowanie weekendu- pracujemy z naciskiem na słownictwo i inwersję (szyk przestawny w zdaniu)\, zastosowanie omdat i als poprzez ćwiczenie krótkich rozmów \nPlany na wakacje i podróże \,rezerwowanie hoteli\, rozmowy na lotnisku czy w biurze podróży- ćwiczenie dialogów w grupie i w parach \nDom i życie codzienne- rozmowy o obowiązkach domowych i rozmowy z sąsiadami \nPlany i przyszłość- W jaki sposób wyrażamy przyszłość w języku niderlandzkim \nProblemy i sytuacje awaryjne- zgłaszanie zgubionych rzeczy\, wzywanie pomocy\, rozmowy z policją czy strażą pożarną \nLekarz domowy i apteka -umawianie\, przekładanie i odwoływanie wizyt\, opisywanie swoich dolegliwości\, zwroty i pytania potrzebne podczas rozmowy\, odbieranie leków\, wykonywanie rozmów telefonicznych z asystentką lekarza i aptek \nRandki i relacje międzyludzkie- wyrażanie uczuć\, umawianie się na spotkania\, rozwiązywanie drobnych konfliktów \nRozmowy w sklepach -supermarket\, sklepy z odzieżą i butami\, drogeria \nTwoje mieszkanie/dom- rozmowy dotyczące wynajmu\, rozmowy ze spółdzielnią\, zgłaszanie problemów w mieszkaniu \nUbezpieczenia- dialogi dotyczące składania wniosku\, staranie się o odszkodowanie\, pytania i odpowiedzi podczas rozmowy z pracownikiem ubezpieczalni \nOtrzymujesz nagrania audio i video utrwalające słownictwo\, dialogi i zwroty i swobodnie ćwiczyć po między zajęciami w zaciszu własnego domu.
URL:https://anitanederlands.nl/kurs/kurs-a1-mow-po-niderlandzku-kurs-wprowadzajacy-do-a2-start-21-marca-2026-koniec-30-maja-2026-25-04-2026-5-05-2026-przerwa-wakacyjna/
LOCATION:Miejsce zajęć\, Buislaan 52\, Rotterdam\, 3028 VA\, Netherlands
ATTACH;FMTTYPE=image/png:https://anitanederlands.nl/wp-content/uploads/2025/08/A1-1.png
ORGANIZER;CN="Anita Nederlands voor iedereen":MAILTO:info@anitanederlands.nl
END:VEVENT
END:VCALENDAR